BEGIN:VCALENDAR
VERSION:2.0
PRODID:-//San Diego Rotary - ECPv6.15.20//NONSGML v1.0//EN
CALSCALE:GREGORIAN
METHOD:PUBLISH
X-WR-CALNAME:San Diego Rotary
X-ORIGINAL-URL:https://sandiegorotary.club
X-WR-CALDESC:Events for San Diego Rotary
REFRESH-INTERVAL;VALUE=DURATION:PT1H
X-Robots-Tag:noindex
X-PUBLISHED-TTL:PT1H
BEGIN:VTIMEZONE
TZID:America/Los_Angeles
BEGIN:DAYLIGHT
TZOFFSETFROM:-0800
TZOFFSETTO:-0700
TZNAME:PDT
DTSTART:20250309T100000
END:DAYLIGHT
BEGIN:STANDARD
TZOFFSETFROM:-0700
TZOFFSETTO:-0800
TZNAME:PST
DTSTART:20251102T090000
END:STANDARD
BEGIN:DAYLIGHT
TZOFFSETFROM:-0800
TZOFFSETTO:-0700
TZNAME:PDT
DTSTART:20260308T100000
END:DAYLIGHT
BEGIN:STANDARD
TZOFFSETFROM:-0700
TZOFFSETTO:-0800
TZNAME:PST
DTSTART:20261101T090000
END:STANDARD
BEGIN:DAYLIGHT
TZOFFSETFROM:-0800
TZOFFSETTO:-0700
TZNAME:PDT
DTSTART:20270314T100000
END:DAYLIGHT
BEGIN:STANDARD
TZOFFSETFROM:-0700
TZOFFSETTO:-0800
TZNAME:PST
DTSTART:20271107T090000
END:STANDARD
END:VTIMEZONE
BEGIN:VEVENT
DTSTART;TZID=America/Los_Angeles:20260514T110000
DTEND;TZID=America/Los_Angeles:20260514T120000
DTSTAMP:20260421T160746
CREATED:20260421T195503Z
LAST-MODIFIED:20260421T195503Z
UID:10919-1778756400-1778760000@sandiegorotary.club
SUMMARY:Committee Showcase
DESCRIPTION:Arrive early to see all committees on display in the Main Hall and signup for Committee service for Rotary year 2026-27!
URL:https://sandiegorotary.club/event/committee-showcase/
LOCATION:Liberty Station Conference Center\, 2600 Laning Road\, San Diego\, CA\, 92106\, United States
CATEGORIES:Special Events
ATTACH;FMTTYPE=image/jpeg:https://sandiegorotary.club/wp-content/uploads/2026/04/PPN_6984-scaled.jpg
END:VEVENT
BEGIN:VEVENT
DTSTART;TZID=America/Los_Angeles:20260514T120000
DTEND;TZID=America/Los_Angeles:20260514T133000
DTSTAMP:20260421T160746
CREATED:20260421T194940Z
LAST-MODIFIED:20260421T194940Z
UID:10909-1778760000-1778765400@sandiegorotary.club
SUMMARY:Erica Ollmann Saphire\, Ph.D.\, M.B.A. LA Jolla Institute of Immunology
DESCRIPTION:Committee Showcase @11 am!\nProfessor\, President and Chief Executive Officer \nCenter for Autoimmunity and Inflammation\, works.\nCenter for Cancer Immunotherapy\,\nCenter for Sex-based Differences in the Immune System\,\nCenter for Vaccine Innovation \n\n  \n 
URL:https://sandiegorotary.club/event/erica-ollmann-saphire-ph-d-m-b-a-la-jolla-institute-of-immunology/
LOCATION:Liberty Station Conference Center\, 2600 Laning Road\, San Diego\, CA\, 92106\, United States
CATEGORIES:Weekly Programs
ATTACH;FMTTYPE=image/jpeg:https://sandiegorotary.club/wp-content/uploads/2026/04/Erica-Ollmann-Saphire--scaled.jpg
END:VEVENT
END:VCALENDAR